BEGIN:VCALENDAR
VERSION:2.0
PRODID:-//104.152.168.27//NONSGML kigkonsult.se iCalcreator 2.20//
CALSCALE:GREGORIAN
METHOD:PUBLISH
X-WR-TIMEZONE:Asia/Tokyo
BEGIN:VEVENT
UID:event30570@Tokyo Gig Guide
DTSTAMP:20260421T082546Z
CATEGORIES:Other
DESCRIPTION:Open Mic　15min\nカテゴリ: Other\nリンク: https://www.tokyogigguide.com
 /index.php?option=com_jem&view=event&id=30570:open-mic-15min&Itemid=1094\n
DTSTART:20240303T170000
DTEND:20240303T170000
LOCATION:Apocalypse Now\,Arakawa 1-31-7\, Arakawa-ku\, Tokyo\,Minowa
SUMMARY:Open Mic　15min
URL:https://www.tokyogigguide.com/index.php?option=com_jem&view=event&id=30
 570:open-mic-15min&Itemid=1094
END:VEVENT
END:VCALENDAR
