BEGIN:VCALENDAR
VERSION:2.0
PRODID:-//104.152.168.27//NONSGML kigkonsult.se iCalcreator 2.20//
CALSCALE:GREGORIAN
METHOD:PUBLISH
X-WR-TIMEZONE:Asia/Tokyo
BEGIN:VEVENT
UID:event30567@Tokyo Gig Guide
DTSTAMP:20260422T095100Z
CATEGORIES:Art\, Avant garde\, Experimental\, Folk
DESCRIPTION:IZUMI & MazerunaKiken\, hebikinoco & Bar Man\, Okaniwa Fumihiro
 \, Kudow Tobiwo\, Van kenji\, Hart Shimada\nカテゴリ: Art\, Avant garde\, Expe
 rimental\, Folk\nリンク: https://www.tokyogigguide.com/index.php?option=com_j
 em&view=event&id=30567:izumi-mazerunakiken-hebikinoco-bar-man-okaniwa-fumi
 hiro-kudow-tobiwo-van-kenji-hart-shimada&Itemid=1094\n
DTSTART:20240321T170000
DTEND:20240321T170000
LOCATION:Apocalypse Now\,Arakawa 1-31-7\, Arakawa-ku\, Tokyo\,Minowa
SUMMARY:IZUMI & MazerunaKiken\, hebikinoco & Bar Man\, Okaniwa Fumihiro\, K
 udow Tobiwo\, Van kenji\, Hart Shimada
URL:https://www.tokyogigguide.com/index.php?option=com_jem&view=event&id=30
 567:izumi-mazerunakiken-hebikinoco-bar-man-okaniwa-fumihiro-kudow-tobiwo-v
 an-kenji-hart-shimada&Itemid=1094
END:VEVENT
END:VCALENDAR
