BEGIN:VCALENDAR
VERSION:2.0
PRODID:-//104.152.168.27//NONSGML kigkonsult.se iCalcreator 2.20//
CALSCALE:GREGORIAN
METHOD:PUBLISH
X-WR-TIMEZONE:Asia/Tokyo
BEGIN:VEVENT
UID:event30566@Tokyo Gig Guide
DTSTAMP:20260422T192540Z
CATEGORIES:Performance\, Noise\, Experimental
DESCRIPTION:Darklaw\, ルッコラ\, 音霊工房\, ジャック服部\, ふたぐちぴょん\nカテゴリ: Performance\, N
 oise\, Experimental\nリンク: https://www.tokyogigguide.com/index.php?option=c
 om_jem&view=event&id=30566:darklaw&Itemid=1094\n
DTSTART:20240313T170000
DTEND:20240313T170000
LOCATION:Apocalypse Now\,Arakawa 1-31-7\, Arakawa-ku\, Tokyo\,Minowa
SUMMARY:Darklaw\, ルッコラ\, 音霊工房\, ジャック服部\, ふたぐちぴょん
URL:https://www.tokyogigguide.com/index.php?option=com_jem&view=event&id=30
 566:darklaw&Itemid=1094
END:VEVENT
END:VCALENDAR
