BEGIN:VCALENDAR
VERSION:2.0
PRODID:-//104.152.168.27//NONSGML kigkonsult.se iCalcreator 2.20//
CALSCALE:GREGORIAN
METHOD:PUBLISH
X-WR-TIMEZONE:Asia/Tokyo
BEGIN:VEVENT
UID:event30499@Tokyo Gig Guide
DTSTAMP:20260425T150057Z
CATEGORIES:Jazz
DESCRIPTION:Orie Hirayama(cello) maiko(violin) Taihei Asakawa(p)\nカテゴリ: Jaz
 z\nリンク: https://www.tokyogigguide.com/index.php?option=com_jem&view=event&
 id=30499:orie-hirayama-cello-maiko-violin-taihei-asakawa-p&Itemid=1094\n
DTSTART:20240229T190000
DTEND:20240229T190000
LOCATION:ZIMAGINE\,6-2-13-B1 Minami-Aoyama\, Minato-ku\, Tokyo\,Omotesando
SUMMARY:Orie Hirayama(cello) maiko(violin) Taihei Asakawa(p)
URL:https://www.tokyogigguide.com/index.php?option=com_jem&view=event&id=30
 499:orie-hirayama-cello-maiko-violin-taihei-asakawa-p&Itemid=1094
END:VEVENT
END:VCALENDAR
