BEGIN:VCALENDAR
VERSION:2.0
PRODID:-//104.152.168.27//NONSGML kigkonsult.se iCalcreator 2.20//
CALSCALE:GREGORIAN
METHOD:PUBLISH
X-WR-TIMEZONE:Asia/Tokyo
BEGIN:VEVENT
UID:event30069@Tokyo Gig Guide
DTSTAMP:20260419T183416Z
CATEGORIES:Experimental
DESCRIPTION:今井和雄 サウンド・オブジェクト ソロ (kazuo imai sound objects solo)\nカテゴリ: Expe
 rimental\nリンク: https://www.tokyogigguide.com/index.php?option=com_jem&view
 =event&id=30069:kazuo-imai-sound-objects-solo&Itemid=1094\n
DTSTART:20240211T193000
DTEND:20240211T193000
LOCATION:Ftarri\,Okano Bld.B1\, 1-4-11\, Hongo\, Bunkyo-ku\, Tokyo\,Suidoba
 shi
SUMMARY:今井和雄 サウンド・オブジェクト ソロ (kazuo imai sound objects solo)
URL:https://www.tokyogigguide.com/index.php?option=com_jem&view=event&id=30
 069:kazuo-imai-sound-objects-solo&Itemid=1094
END:VEVENT
END:VCALENDAR
