BEGIN:VCALENDAR
VERSION:2.0
PRODID:-//104.152.168.27//NONSGML kigkonsult.se iCalcreator 2.20//
CALSCALE:GREGORIAN
METHOD:PUBLISH
X-WR-TIMEZONE:Asia/Tokyo
BEGIN:VEVENT
UID:event29781@Tokyo Gig Guide
DTSTAMP:20260423T222640Z
CATEGORIES:Improvised
DESCRIPTION:今井和雄 (kazuo imai) (g)\, 多井智紀 (tomoki tai) (cello\, more)\nカテゴリ:
  Improvised\nリンク: https://www.tokyogigguide.com/index.php?option=com_jem&v
 iew=event&id=29781:kazuo-imai-g-tomoki-tai-cello-and-more&Itemid=1094\n
DTSTART:20240129T193000
DTEND:20240129T193000
LOCATION:Ftarri\,Okano Bld.B1\, 1-4-11\, Hongo\, Bunkyo-ku\, Tokyo\,Suidoba
 shi
SUMMARY:今井和雄 (kazuo imai) (g)\, 多井智紀 (tomoki tai) (cello\, more)
URL:https://www.tokyogigguide.com/index.php?option=com_jem&view=event&id=29
 781:kazuo-imai-g-tomoki-tai-cello-and-more&Itemid=1094
END:VEVENT
END:VCALENDAR
