BEGIN:VCALENDAR
VERSION:2.0
PRODID:-//104.152.168.27//NONSGML kigkonsult.se iCalcreator 2.20//
CALSCALE:GREGORIAN
METHOD:PUBLISH
X-WR-TIMEZONE:Asia/Tokyo
BEGIN:VEVENT
UID:event29675@Tokyo Gig Guide
DTSTAMP:20260419T221849Z
CATEGORIES:Acoustic\, Free Jazz\, Improvised\, Instrumental\, Jazz
DESCRIPTION:Trio L.O.D\nカテゴリ: Acoustic\, Free Jazz\, Improvised\, Instrumen
 tal\, Jazz\nリンク: https://www.tokyogigguide.com/index.php?option=com_jem&vi
 ew=event&id=29675:trio-l-o-d&Itemid=1094\n
DTSTART:20231223T190000
DTEND:20231223T190000
LOCATION:LIVE UNTEN 45\,Yotsuya
SUMMARY:Trio L.O.D
URL:https://www.tokyogigguide.com/index.php?option=com_jem&view=event&id=29
 675:trio-l-o-d&Itemid=1094
END:VEVENT
END:VCALENDAR
