BEGIN:VCALENDAR
VERSION:2.0
PRODID:-//104.152.168.27//NONSGML kigkonsult.se iCalcreator 2.20//
CALSCALE:GREGORIAN
METHOD:PUBLISH
X-WR-TIMEZONE:Asia/Tokyo
BEGIN:VEVENT
UID:event29366@Tokyo Gig Guide
DTSTAMP:20260421T194959Z
CATEGORIES:Abstract\, Avant garde\, Electronic\, Experimental\, Unclassifia
 ble
DESCRIPTION:Simon Whetham\, Dana Ollestad\, Leo Okagawa\nカテゴリ: Abstract\, A
 vant garde\, Electronic\, Experimental\, Unclassifiable\nリンク: https://www.
 tokyogigguide.com/index.php?option=com_jem&view=event&id=29366:simon-wheth
 am-dana-ollestad-leo-okagawa&Itemid=1094\n
DTSTART:20240127T193000
DTEND:20240127T193000
LOCATION:Ftarri\,Okano Bld.B1\, 1-4-11\, Hongo\, Bunkyo-ku\, Tokyo\,Suidoba
 shi
SUMMARY:Simon Whetham\, Dana Ollestad\, Leo Okagawa
URL:https://www.tokyogigguide.com/index.php?option=com_jem&view=event&id=29
 366:simon-whetham-dana-ollestad-leo-okagawa&Itemid=1094
END:VEVENT
END:VCALENDAR
