BEGIN:VCALENDAR
VERSION:2.0
PRODID:-//104.152.168.27//NONSGML kigkonsult.se iCalcreator 2.20//
CALSCALE:GREGORIAN
METHOD:PUBLISH
X-WR-TIMEZONE:Asia/Tokyo
BEGIN:VEVENT
UID:event2935@Tokyo Gig Guide
DTSTAMP:20260423T010228Z
CATEGORIES:WTF?
DESCRIPTION:Jahiliyyah & Nobunaga Ken\, Puffy Shoes\, 2up\, Teenage Desires
 \, Endon\nカテゴリ: WTF?\nリンク: https://www.tokyogigguide.com/index.php?option=
 com_jem&view=event&id=2935:jahiliyyah-a-nobunaga-ken-puffy-shoes-2up-teena
 ge-desires-endon&Itemid=1094\n
DTSTART:20100620T180000
DTEND:20100620T180000
LOCATION:Soup\,B1F Mitaka Building 3-9-10 Kami-Ochiai\,Shinjuku-ku\,Ochiai
SUMMARY:Jahiliyyah & Nobunaga Ken\, Puffy Shoes\, 2up\, Teenage Desires\, E
 ndon
URL:https://www.tokyogigguide.com/index.php?option=com_jem&view=event&id=29
 35:jahiliyyah-a-nobunaga-ken-puffy-shoes-2up-teenage-desires-endon&Itemid=
 1094
END:VEVENT
END:VCALENDAR
