BEGIN:VCALENDAR
VERSION:2.0
PRODID:-//104.152.168.27//NONSGML kigkonsult.se iCalcreator 2.20//
CALSCALE:GREGORIAN
METHOD:PUBLISH
X-WR-TIMEZONE:Asia/Tokyo
BEGIN:VEVENT
UID:event28992@Tokyo Gig Guide
DTSTAMP:20260419T181658Z
CATEGORIES:Improvised
DESCRIPTION:Tom Soloveitzik (tenor sax)\, Masatake Abe (electric bass)\, Fu
 miEndo (piano)\nカテゴリ: Improvised\nリンク: https://www.tokyogigguide.com/index
 .php?option=com_jem&view=event&id=28992:tom-soloveitzik-tenor-sax-masatake
 -abe-electricbass-fumiendo-piano&Itemid=1094\n
DTSTART:20231008T193000
DTEND:20231008T193000
LOCATION:Ftarri\,Okano Bld.B1\, 1-4-11\, Hongo\, Bunkyo-ku\, Tokyo\,Suidoba
 shi
SUMMARY:Tom Soloveitzik (tenor sax)\, Masatake Abe (electric bass)\, FumiEn
 do (piano)
URL:https://www.tokyogigguide.com/index.php?option=com_jem&view=event&id=28
 992:tom-soloveitzik-tenor-sax-masatake-abe-electricbass-fumiendo-piano&Ite
 mid=1094
END:VEVENT
END:VCALENDAR
