BEGIN:VCALENDAR
VERSION:2.0
PRODID:-//104.152.168.27//NONSGML kigkonsult.se iCalcreator 2.20//
CALSCALE:GREGORIAN
METHOD:PUBLISH
X-WR-TIMEZONE:Asia/Tokyo
BEGIN:VEVENT
UID:event28738@Tokyo Gig Guide
DTSTAMP:20260421T061407Z
CATEGORIES:Abstract\, Electronic\, Experimental\, Improvised\, Instrumental
DESCRIPTION:大沼弘基 × 金子由布樹 × 須郷史人\nカテゴリ: Abstract\, Electronic\, Experimental
 \, Improvised\, Instrumental\nリンク: https://www.tokyogigguide.com/index.php
 ?option=com_jem&view=event&id=28738:2023-09-11-09-38-03&Itemid=1094\n
DTSTART:20231013T190000
DTEND:20231013T190000
LOCATION:LIVE UNTEN 45\,Yotsuya
SUMMARY:大沼弘基 × 金子由布樹 × 須郷史人
URL:https://www.tokyogigguide.com/index.php?option=com_jem&view=event&id=28
 738:2023-09-11-09-38-03&Itemid=1094
END:VEVENT
END:VCALENDAR
