BEGIN:VCALENDAR
VERSION:2.0
PRODID:-//104.152.168.27//NONSGML kigkonsult.se iCalcreator 2.20//
CALSCALE:GREGORIAN
METHOD:PUBLISH
X-WR-TIMEZONE:Asia/Tokyo
BEGIN:VEVENT
UID:event28662@Tokyo Gig Guide
DTSTAMP:20260419T235146Z
CATEGORIES:Blues\, Funk\, Jazz\, Pop\, World
DESCRIPTION:Tony Guppy\, Abe Rumi\, Harayama Yukimaru\nカテゴリ: Blues\, Funk\,
  Jazz\, Pop\, World\nリンク: https://www.tokyogigguide.com/index.php?option=c
 om_jem&view=event&id=28662:tony-guppy-abe-rumi-harayama-yukimaru&Itemid=10
 94\n
DTSTART:20230906T190000
DTEND:20230906T190000
LOCATION:Thelonious\,5-9-1\, Higashi Nakano\, Nakano-ku\,Higashi-Nakano
SUMMARY:Tony Guppy\, Abe Rumi\, Harayama Yukimaru
URL:https://www.tokyogigguide.com/index.php?option=com_jem&view=event&id=28
 662:tony-guppy-abe-rumi-harayama-yukimaru&Itemid=1094
END:VEVENT
END:VCALENDAR
