BEGIN:VCALENDAR
VERSION:2.0
PRODID:-//104.152.168.27//NONSGML kigkonsult.se iCalcreator 2.20//
CALSCALE:GREGORIAN
METHOD:PUBLISH
X-WR-TIMEZONE:Asia/Tokyo
BEGIN:VEVENT
UID:event28645@Tokyo Gig Guide
DTSTAMP:20260425T232808Z
CATEGORIES:Experimental\, Improvised\, Krautrock\, Neo-psychedelia\, Psyche
 delic
DESCRIPTION:Makoto Kawabata (Acid Mothers Temple)\, 野流\, Joseph of Kirezi\,
  Yokujitsu\nカテゴリ: Experimental\, Improvised\, Krautrock\, Neo-psychedelia\
 , Psychedelic\nリンク: https://www.tokyogigguide.com/index.php?option=com_jem
 &view=event&id=28645:makoto-kawabata-acid-mothers-temple-joseph-of-kirezi-
 yokujitsu&Itemid=1094\n
DTSTART:20230908T193000
DTEND:20230908T193000
LOCATION:SPREAD\,2-12-6 Kitazawa\, Setagaya-ku\, Tokyo\,Shimokitazawa
SUMMARY:Makoto Kawabata (Acid Mothers Temple)\, 野流\, Joseph of Kirezi\, Yok
 ujitsu
URL:https://www.tokyogigguide.com/index.php?option=com_jem&view=event&id=28
 645:makoto-kawabata-acid-mothers-temple-joseph-of-kirezi-yokujitsu&Itemid=
 1094
END:VEVENT
END:VCALENDAR
