BEGIN:VCALENDAR
VERSION:2.0
PRODID:-//104.152.168.27//NONSGML kigkonsult.se iCalcreator 2.20//
CALSCALE:GREGORIAN
METHOD:PUBLISH
X-WR-TIMEZONE:Asia/Tokyo
BEGIN:VEVENT
UID:event28473@Tokyo Gig Guide
DTSTAMP:20260421T215325Z
CATEGORIES:Alternative\, Free Jazz\, Funk\, Improvised\, Jazz
DESCRIPTION:Totsui-Hyoubyo: Eiichi Hayashi\, Yuichi Ushioda\, Keigo Iwami\,
  Masaki Nagata & Ryotaro Miyasaka\nカテゴリ: Alternative\, Free Jazz\, Funk\, 
 Improvised\, Jazz\nリンク: https://www.tokyogigguide.com/index.php?option=com
 _jem&view=event&id=28473:eiichi-hayashi-yuichi-ushioda-keigo-iwami-masaki-
 nagata-ryotaro-miyasaka-totsui-hyoubyo&Itemid=1094\n
DTSTART:20231005T190000
DTEND:20231005T190000
LOCATION:Pit Inn\,Accord Bldg B1\, 2-12-4 Shinjuku\, Shinjuku-ku\,Shinjuku
SUMMARY:Totsui-Hyoubyo: Eiichi Hayashi\, Yuichi Ushioda\, Keigo Iwami\, Mas
 aki Nagata & Ryotaro Miyasaka
URL:https://www.tokyogigguide.com/index.php?option=com_jem&view=event&id=28
 473:eiichi-hayashi-yuichi-ushioda-keigo-iwami-masaki-nagata-ryotaro-miyasa
 ka-totsui-hyoubyo&Itemid=1094
END:VEVENT
END:VCALENDAR
