BEGIN:VCALENDAR
VERSION:2.0
PRODID:-//104.152.168.27//NONSGML kigkonsult.se iCalcreator 2.20//
CALSCALE:GREGORIAN
METHOD:PUBLISH
X-WR-TIMEZONE:Asia/Tokyo
BEGIN:VEVENT
UID:event28467@Tokyo Gig Guide
DTSTAMP:20260419T222235Z
CATEGORIES:Dance\, DJ\, Party
DESCRIPTION:Dance Party w/ DJ Hiroking\nカテゴリ: Dance\, DJ\, Party\nリンク: http
 s://www.tokyogigguide.com/index.php?option=com_jem&view=event&id=28467:dan
 ce-party-w-dj-hiroking&Itemid=1094\n
DTSTART:20230915T200000
DTEND:20230915T200000
LOCATION:Love\, Peace and Soul Live Cafe\,Parfum Kyodo B1-C 1-5-6 Kyodo\, S
 etagaya-ku\, Tokyo\,Kyodo
SUMMARY:Dance Party w/ DJ Hiroking
URL:https://www.tokyogigguide.com/index.php?option=com_jem&view=event&id=28
 467:dance-party-w-dj-hiroking&Itemid=1094
END:VEVENT
END:VCALENDAR
