BEGIN:VCALENDAR
VERSION:2.0
PRODID:-//104.152.168.27//NONSGML kigkonsult.se iCalcreator 2.20//
CALSCALE:GREGORIAN
METHOD:PUBLISH
X-WR-TIMEZONE:Asia/Tokyo
BEGIN:VEVENT
UID:event28395@Tokyo Gig Guide
DTSTAMP:20260420T072210Z
CATEGORIES:Acoustic\, Instrumental\, Latin\, World
DESCRIPTION:Naoki Kita (violin)\, Leonardo Bravo (guitar)\nカテゴリ: Acoustic\,
  Instrumental\, Latin\, World\nリンク: https://www.tokyogigguide.com/index.ph
 p?option=com_jem&view=event&id=28395:violin-naoki-kita-guitar-leonardo-bra
 vo&Itemid=1094\n
DTSTART:20230825T190000
DTEND:20230825T190000
LOCATION:El Choclo\,3-2-8 Minami-Ikebukuro\, Toshima-ku\,Zoshigaya
SUMMARY:Naoki Kita (violin)\, Leonardo Bravo (guitar)
URL:https://www.tokyogigguide.com/index.php?option=com_jem&view=event&id=28
 395:violin-naoki-kita-guitar-leonardo-bravo&Itemid=1094
END:VEVENT
END:VCALENDAR
