BEGIN:VCALENDAR
VERSION:2.0
PRODID:-//104.152.168.27//NONSGML kigkonsult.se iCalcreator 2.20//
CALSCALE:GREGORIAN
METHOD:PUBLISH
X-WR-TIMEZONE:Asia/Tokyo
BEGIN:VEVENT
UID:event28214@Tokyo Gig Guide
DTSTAMP:20260421T080419Z
CATEGORIES:Hardcore\, Noise\, Pop-punk\, Punk\, Rock
DESCRIPTION:トゥインクループ (TWINKLOOP) + プリンス王子 (Bass\, from ミックスナッツハウス)\, リコーダーの
 妖精けんけん (性格判断など)\, HAIGAN\nカテゴリ: Hardcore\, Noise\, Pop-punk\, Punk\, Rock
 \nリンク: https://www.tokyogigguide.com/index.php?option=com_jem&view=event&i
 d=28214:twinkloop-bass-from-haigan&Itemid=1094\n
DTSTART:20230805T180000
DTEND:20230805T180000
LOCATION:Daydream\,6F\, 1-1-4\, Minami-cho\, Kichijoji\, Musashino city\,Ki
 chijoji
SUMMARY:トゥインクループ (TWINKLOOP) + プリンス王子 (Bass\, from ミックスナッツハウス)\, リコーダーの妖精けん
 けん (性格判断など)\, HAIGAN
URL:https://www.tokyogigguide.com/index.php?option=com_jem&view=event&id=28
 214:twinkloop-bass-from-haigan&Itemid=1094
END:VEVENT
END:VCALENDAR
