BEGIN:VCALENDAR
VERSION:2.0
PRODID:-//104.152.168.27//NONSGML kigkonsult.se iCalcreator 2.20//
CALSCALE:GREGORIAN
METHOD:PUBLISH
X-WR-TIMEZONE:Asia/Tokyo
BEGIN:VEVENT
UID:event28200@Tokyo Gig Guide
DTSTAMP:20260425T202641Z
CATEGORIES:Alternative\, Hardcore\, Death Metal\, Punk\, Metal
DESCRIPTION:APOLOGIST\, THE TELEPASHITS\, 168\, シドロ喪ドロ\nカテゴリ: Alternative\,
  Hardcore\, Death Metal\, Punk\, Metal\nリンク: https://www.tokyogigguide.com
 /index.php?option=com_jem&view=event&id=28200:apologist-the-telepashits-16
 8&Itemid=1094\n
DTSTART:20230717T180000
DTEND:20230717T180000
LOCATION:Chop (Shutou)\,Sheema100 B1\, 2-46-3 Ikebukuro\,Ikebukuro
SUMMARY:APOLOGIST\, THE TELEPASHITS\, 168\, シドロ喪ドロ
URL:https://www.tokyogigguide.com/index.php?option=com_jem&view=event&id=28
 200:apologist-the-telepashits-168&Itemid=1094
END:VEVENT
END:VCALENDAR
