BEGIN:VCALENDAR
VERSION:2.0
PRODID:-//104.152.168.27//NONSGML kigkonsult.se iCalcreator 2.20//
CALSCALE:GREGORIAN
METHOD:PUBLISH
X-WR-TIMEZONE:Asia/Tokyo
BEGIN:VEVENT
UID:event27431@Tokyo Gig Guide
DTSTAMP:20260424T062415Z
CATEGORIES:Acoustic\, Funk\, Jazz\, Latin\, Soul
DESCRIPTION:madoron#12: Mariko Nakabayashi\, Johnhori\, Hiroki Murakami\nカテ
 ゴリ: Acoustic\, Funk\, Jazz\, Latin\, Soul\nリンク: https://www.tokyogigguide.
 com/index.php?option=com_jem&view=event&id=27431:mariko-nakabayashi-johnho
 ri-hiroki-murakami-madoron-12&Itemid=1094\n
DTSTART:20230419T190000
DTEND:20230419T190000
LOCATION:ZIMAGINE\,6-2-13-B1 Minami-Aoyama\, Minato-ku\, Tokyo\,Omotesando
SUMMARY:madoron#12: Mariko Nakabayashi\, Johnhori\, Hiroki Murakami
URL:https://www.tokyogigguide.com/index.php?option=com_jem&view=event&id=27
 431:mariko-nakabayashi-johnhori-hiroki-murakami-madoron-12&Itemid=1094
END:VEVENT
END:VCALENDAR
