BEGIN:VCALENDAR
VERSION:2.0
PRODID:-//104.152.168.27//NONSGML kigkonsult.se iCalcreator 2.20//
CALSCALE:GREGORIAN
METHOD:PUBLISH
X-WR-TIMEZONE:Asia/Tokyo
BEGIN:VEVENT
UID:event274@Tokyo Gig Guide
DTSTAMP:20260421T122243Z
CATEGORIES:Indie-Pop
DESCRIPTION:British Underground's 2nd birthday bash! Bo-Peep\, Tokyo Pinsal
 ocks and Natccu\nカテゴリ: Indie-Pop\nリンク: https://www.tokyogigguide.com/index
 .php?option=com_jem&view=event&id=274:british-undergrounds-2nd-birthday-ba
 sh-bo-peep-tokyo-pinsalocks-and-natccu&Itemid=1094\n
DTSTART:20081030T200000
DTEND:20081031T020000
LOCATION:Ruby Room\,2F Kasumi Bldg\, Dogenzaka 2-25-17\, Shibuya\,Shibuya
SUMMARY:British Underground's 2nd birthday bash! Bo-Peep\, Tokyo Pinsalocks
  and Natccu
URL:https://www.tokyogigguide.com/index.php?option=com_jem&view=event&id=27
 4:british-undergrounds-2nd-birthday-bash-bo-peep-tokyo-pinsalocks-and-natc
 cu&Itemid=1094
END:VEVENT
END:VCALENDAR
