BEGIN:VCALENDAR
VERSION:2.0
PRODID:-//104.152.168.27//NONSGML kigkonsult.se iCalcreator 2.20//
CALSCALE:GREGORIAN
METHOD:PUBLISH
X-WR-TIMEZONE:Asia/Tokyo
BEGIN:VEVENT
UID:event27299@Tokyo Gig Guide
DTSTAMP:20260420T122833Z
CATEGORIES:Psychedelic\, Psych-Folk
DESCRIPTION:RQRQ\, MIMINOKOTO\nカテゴリ: Psychedelic\, Psych-Folk\nリンク: https:/
 /www.tokyogigguide.com/index.php?option=com_jem&view=event&id=27299:rqrq-m
 iminokoto-two-japanese-psych-rock-by-members-from-les-rallies-denudes-and-
 acid-mothers-temple-and-high-rise&Itemid=1094\n
DTSTART:20230318T190000
DTEND:20230318T190000
LOCATION:Tabasa\,2-13-18 202 Asagaya-kita\, Suginami-ku\, Tokyo\,Asagaya
SUMMARY:RQRQ\, MIMINOKOTO
URL:https://www.tokyogigguide.com/index.php?option=com_jem&view=event&id=27
 299:rqrq-miminokoto-two-japanese-psych-rock-by-members-from-les-rallies-de
 nudes-and-acid-mothers-temple-and-high-rise&Itemid=1094
END:VEVENT
END:VCALENDAR
