BEGIN:VCALENDAR
VERSION:2.0
PRODID:-//104.152.168.27//NONSGML kigkonsult.se iCalcreator 2.20//
CALSCALE:GREGORIAN
METHOD:PUBLISH
X-WR-TIMEZONE:Asia/Tokyo
BEGIN:VEVENT
UID:event26965@Tokyo Gig Guide
DTSTAMP:20260421T004750Z
CATEGORIES:Acoustic\, Art\, Improvised\, Instrumental
DESCRIPTION:大沼弘基 (Hiroki Oonuma) × 須郷史人 (Fumito Sugo) Duo\nカテゴリ: Acoustic\,
  Art\, Improvised\, Instrumental\nリンク: https://www.tokyogigguide.com/index
 .php?option=com_jem&view=event&id=26965:hiroki-oonuma-fumito-sugo-duo&Item
 id=1094\n
DTSTART:20230210T190000
DTEND:20230210T190000
LOCATION:LIVE UNTEN 45\,Yotsuya
SUMMARY:大沼弘基 (Hiroki Oonuma) × 須郷史人 (Fumito Sugo) Duo
URL:https://www.tokyogigguide.com/index.php?option=com_jem&view=event&id=26
 965:hiroki-oonuma-fumito-sugo-duo&Itemid=1094
END:VEVENT
END:VCALENDAR
