BEGIN:VCALENDAR
VERSION:2.0
PRODID:-//104.152.168.27//NONSGML kigkonsult.se iCalcreator 2.20//
CALSCALE:GREGORIAN
METHOD:PUBLISH
X-WR-TIMEZONE:Asia/Tokyo
BEGIN:VEVENT
UID:event2671@Tokyo Gig Guide
DTSTAMP:20260426T040321Z
CATEGORIES:Post-Rock
DESCRIPTION:[Canceled] aMute\, Moshimoss\, dabit\, gargle\, DJ friendly pan
 da\nカテゴリ: Post-Rock\nリンク: https://www.tokyogigguide.com/index.php?option=c
 om_jem&view=event&id=2671:amute-qnostalgia-tour-2010q&Itemid=1094\n
DTSTART:20100418T180000
DTEND:20100418T180000
LOCATION:Soup\,B1F Mitaka Building 3-9-10 Kami-Ochiai\,Shinjuku-ku\,Ochiai
SUMMARY:[Canceled] aMute\, Moshimoss\, dabit\, gargle\, DJ friendly panda
URL:https://www.tokyogigguide.com/index.php?option=com_jem&view=event&id=26
 71:amute-qnostalgia-tour-2010q&Itemid=1094
END:VEVENT
END:VCALENDAR
