BEGIN:VCALENDAR
VERSION:2.0
PRODID:-//104.152.168.27//NONSGML kigkonsult.se iCalcreator 2.20//
CALSCALE:GREGORIAN
METHOD:PUBLISH
X-WR-TIMEZONE:Asia/Tokyo
BEGIN:VEVENT
UID:event26163@Tokyo Gig Guide
DTSTAMP:20260423T202136Z
CATEGORIES:Dub\, Funk\, Instrumental\, Psychedelic\, Rock
DESCRIPTION:Khruangbin\nカテゴリ: Dub\, Funk\, Instrumental\, Psychedelic\, Roc
 k\nリンク: https://www.tokyogigguide.com/index.php?option=com_jem&view=event&
 id=26163:khruangbin&Itemid=1094\n
DTSTART:20221115T180000
DTEND:20221115T180000
LOCATION:PIT\,Toyosu 6-1-23\, Koto-ku\, Tokyo\,Toyosu
SUMMARY:Khruangbin
URL:https://www.tokyogigguide.com/index.php?option=com_jem&view=event&id=26
 163:khruangbin&Itemid=1094
END:VEVENT
END:VCALENDAR
