BEGIN:VCALENDAR
VERSION:2.0
PRODID:-//104.152.168.27//NONSGML kigkonsult.se iCalcreator 2.20//
CALSCALE:GREGORIAN
METHOD:PUBLISH
X-WR-TIMEZONE:Asia/Tokyo
BEGIN:VEVENT
UID:event26126@Tokyo Gig Guide
DTSTAMP:20260424T021629Z
CATEGORIES:Acoustic\, Free Jazz\, Improvised\, Instrumental\, Jazz
DESCRIPTION:NAKAMURA Yutaka Trio\nカテゴリ: Acoustic\, Free Jazz\, Improvised\,
  Instrumental\, Jazz\nリンク: https://www.tokyogigguide.com/index.php?option=
 com_jem&view=event&id=26126:nakamura-yutaka-trio&Itemid=1094\n
DTSTART:20220829T190000
DTEND:20220829T190000
LOCATION:Thelonious\,5-9-1\, Higashi Nakano\, Nakano-ku\,Higashi-Nakano
SUMMARY:NAKAMURA Yutaka Trio
URL:https://www.tokyogigguide.com/index.php?option=com_jem&view=event&id=26
 126:nakamura-yutaka-trio&Itemid=1094
END:VEVENT
END:VCALENDAR
