BEGIN:VCALENDAR
VERSION:2.0
PRODID:-//104.152.168.27//NONSGML kigkonsult.se iCalcreator 2.20//
CALSCALE:GREGORIAN
METHOD:PUBLISH
X-WR-TIMEZONE:Asia/Tokyo
BEGIN:VEVENT
UID:event2593@Tokyo Gig Guide
DTSTAMP:20260423T010255Z
CATEGORIES:Experimental
DESCRIPTION:Sound Follies vol.7 from Norway- Lasse Marhaug (jazkamer)\, Mar
 anata\, Painjerk\, Optron\nカテゴリ: Experimental\nリンク: https://www.tokyogiggu
 ide.com/index.php?option=com_jem&view=event&id=2593:sound-follies-vol7-fro
 m-norway-lasse-marhaug-jazkamermaranata-painjerk-optron&Itemid=1094\n
DTSTART:20100411T180000
DTEND:20100411T180000
LOCATION:Soup\,B1F Mitaka Building 3-9-10 Kami-Ochiai\,Shinjuku-ku\,Ochiai
SUMMARY:Sound Follies vol.7 from Norway- Lasse Marhaug (jazkamer)\, Maranat
 a\, Painjerk\, Optron
URL:https://www.tokyogigguide.com/index.php?option=com_jem&view=event&id=25
 93:sound-follies-vol7-from-norway-lasse-marhaug-jazkamermaranata-painjerk-
 optron&Itemid=1094
END:VEVENT
END:VCALENDAR
