BEGIN:VCALENDAR
VERSION:2.0
PRODID:-//104.152.168.27//NONSGML kigkonsult.se iCalcreator 2.20//
CALSCALE:GREGORIAN
METHOD:PUBLISH
X-WR-TIMEZONE:Asia/Tokyo
BEGIN:VEVENT
UID:event25878@Tokyo Gig Guide
DTSTAMP:20260423T224957Z
CATEGORIES:Jazz
DESCRIPTION:Makoto Takeuchi\, Masatake Abe\nカテゴリ: Jazz\nリンク: https://www.to
 kyogigguide.com/index.php?option=com_jem&view=event&id=25878:makoto-takeuc
 hi-masatake-abe&Itemid=1094\n
DTSTART:20220618T190000
DTEND:20220618T190000
LOCATION:Thelonious\,5-9-1\, Higashi Nakano\, Nakano-ku\,Higashi-Nakano
SUMMARY:Makoto Takeuchi\, Masatake Abe
URL:https://www.tokyogigguide.com/index.php?option=com_jem&view=event&id=25
 878:makoto-takeuchi-masatake-abe&Itemid=1094
END:VEVENT
END:VCALENDAR
