BEGIN:VCALENDAR
VERSION:2.0
PRODID:-//104.152.168.27//NONSGML kigkonsult.se iCalcreator 2.20//
CALSCALE:GREGORIAN
METHOD:PUBLISH
X-WR-TIMEZONE:Asia/Tokyo
BEGIN:VEVENT
UID:event25669@Tokyo Gig Guide
DTSTAMP:20260426T024813Z
CATEGORIES:Noise\, Disco-punk\, Electronic\, Experimental\, Industrial
DESCRIPTION:L?K?O\, RSC\, HAIZAI AUDIO\, BLACKPHONE666\, yumesaki\, yumeo\,
  scum\, Wolf Creek\, Uchu Chinchilla\nカテゴリ: Noise\, Disco-punk\, Electroni
 c\, Experimental\, Industrial\nリンク: https://www.tokyogigguide.com/index.ph
 p?option=com_jem&view=event&id=25669:l-k-o-rsc-haizai-audio-blackphone666-
 yumesaki-yumeo-scum-wolf-creek-uchu-chinchilla&Itemid=1094\n
DTSTART:20220313T150000
DTEND:20220313T150000
LOCATION:SPREAD\,2-12-6 Kitazawa\, Setagaya-ku\, Tokyo\,Shimokitazawa
SUMMARY:L?K?O\, RSC\, HAIZAI AUDIO\, BLACKPHONE666\, yumesaki\, yumeo\, scu
 m\, Wolf Creek\, Uchu Chinchilla
URL:https://www.tokyogigguide.com/index.php?option=com_jem&view=event&id=25
 669:l-k-o-rsc-haizai-audio-blackphone666-yumesaki-yumeo-scum-wolf-creek-uc
 hu-chinchilla&Itemid=1094
END:VEVENT
END:VCALENDAR
