BEGIN:VCALENDAR
VERSION:2.0
PRODID:-//104.152.168.27//NONSGML kigkonsult.se iCalcreator 2.20//
CALSCALE:GREGORIAN
METHOD:PUBLISH
X-WR-TIMEZONE:Asia/Tokyo
BEGIN:VEVENT
UID:event24767@Tokyo Gig Guide
DTSTAMP:20260421T070405Z
CATEGORIES:Indie-Rock
DESCRIPTION:OGRE YOU ASSHOLE\, VIDEOTAPEMUSIC\, DJ suimin\nカテゴリ: Indie-Rock
 \nリンク: https://www.tokyogigguide.com/index.php?option=com_jem&view=event&i
 d=24767:ogre-you-asshole-videotapemusic-dj-suimin&Itemid=1094\n
DTSTART:20200306T183000
DTEND:20200306T183000
LOCATION:WWW X\,2F Rise Bldg\, 13-17 Udagawacho\, Shibuya-ku\,Shibuya
SUMMARY:OGRE YOU ASSHOLE\, VIDEOTAPEMUSIC\, DJ suimin
URL:https://www.tokyogigguide.com/index.php?option=com_jem&view=event&id=24
 767:ogre-you-asshole-videotapemusic-dj-suimin&Itemid=1094
END:VEVENT
END:VCALENDAR
