BEGIN:VCALENDAR
VERSION:2.0
PRODID:-//104.152.168.27//NONSGML kigkonsult.se iCalcreator 2.20//
CALSCALE:GREGORIAN
METHOD:PUBLISH
X-WR-TIMEZONE:Asia/Tokyo
BEGIN:VEVENT
UID:event24542@Tokyo Gig Guide
DTSTAMP:20260420T005341Z
CATEGORIES:Dance\, Electronic\, Experimental\, Industrial\, Noise
DESCRIPTION:Nan+na Hospital Productions Showcase: P.I.G.S\, Golpe Mortal\, 
 TAKAHASHI (VETA)\, Prurient\, Vatican Shadow\, more\nカテゴリ: Dance\, Electro
 nic\, Experimental\, Industrial\, Noise\nリンク: https://www.tokyogigguide.co
 m/index.php?option=com_jem&view=event&id=24542:nan-na-hospital-productions
 -showcase-in-tokyo&Itemid=1094\n
DTSTART:20200214T200000
DTEND:20200214T200000
LOCATION:Contact\,B2F 2-10-12 DOGENZAKA\, SHIBUYA-KU\,Shibuya
SUMMARY:Nan+na Hospital Productions Showcase: P.I.G.S\, Golpe Mortal\, TAKA
 HASHI (VETA)\, Prurient\, Vatican Shadow\, more
URL:https://www.tokyogigguide.com/index.php?option=com_jem&view=event&id=24
 542:nan-na-hospital-productions-showcase-in-tokyo&Itemid=1094
END:VEVENT
END:VCALENDAR
