BEGIN:VCALENDAR
VERSION:2.0
PRODID:-//104.152.168.27//NONSGML kigkonsult.se iCalcreator 2.20//
CALSCALE:GREGORIAN
METHOD:PUBLISH
X-WR-TIMEZONE:Asia/Tokyo
BEGIN:VEVENT
UID:event24366@Tokyo Gig Guide
DTSTAMP:20260424T232725Z
CATEGORIES:Acoustic\, Avant garde\, Instrumental\, Progressive
DESCRIPTION:ERA (Akihisa Tsuboi\, Natsuki Kido)\nカテゴリ: Acoustic\, Avant gar
 de\, Instrumental\, Progressive\nリンク: https://www.tokyogigguide.com/index.
 php?option=com_jem&view=event&id=24366:era-akihisa-tsuboi-natsuki-kido&Ite
 mid=1094\n
DTSTART:20200130T183000
DTEND:20200130T183000
LOCATION:Dolphy\,2-17-4-2F Miyagawa-cho\, Naka-ku\, Yokohama\,Yokohama
SUMMARY:ERA (Akihisa Tsuboi\, Natsuki Kido)
URL:https://www.tokyogigguide.com/index.php?option=com_jem&view=event&id=24
 366:era-akihisa-tsuboi-natsuki-kido&Itemid=1094
END:VEVENT
END:VCALENDAR
