BEGIN:VCALENDAR
VERSION:2.0
PRODID:-//104.152.168.27//NONSGML kigkonsult.se iCalcreator 2.20//
CALSCALE:GREGORIAN
METHOD:PUBLISH
X-WR-TIMEZONE:Asia/Tokyo
BEGIN:VEVENT
UID:event2431@Tokyo Gig Guide
DTSTAMP:20260420T135317Z
CATEGORIES:Garage Rock
DESCRIPTION:ROCKET TO MEMPHIS\, MINNESOTA VOODOO MEN\, Stompin' RiffRaffs\n
 カテゴリ: Garage Rock\nリンク: https://www.tokyogigguide.com/index.php?option=com
 _jem&view=event&id=2431:rocket-to-memphis&Itemid=1094\n
DTSTART:20100409T220000
DTEND:20100409T220000
LOCATION:Heavy Sick\,Nishihara 2-27-4 B1\, Shibuya-ku\,Hatagaya
SUMMARY:ROCKET TO MEMPHIS\, MINNESOTA VOODOO MEN\, Stompin' RiffRaffs
URL:https://www.tokyogigguide.com/index.php?option=com_jem&view=event&id=24
 31:rocket-to-memphis&Itemid=1094
END:VEVENT
END:VCALENDAR
