BEGIN:VCALENDAR
VERSION:2.0
PRODID:-//104.152.168.27//NONSGML kigkonsult.se iCalcreator 2.20//
CALSCALE:GREGORIAN
METHOD:PUBLISH
X-WR-TIMEZONE:Asia/Tokyo
BEGIN:VEVENT
UID:event2415@Tokyo Gig Guide
DTSTAMP:20260422T044328Z
CATEGORIES:Indie
DESCRIPTION:ANIMA\, core of bells\nカテゴリ: Indie\nリンク: https://www.tokyogiggu
 ide.com/index.php?option=com_jem&view=event&id=2415:anima-core-of-bells&It
 emid=1094\n
DTSTART:20100326T183000
DTEND:20100326T183000
LOCATION:Zher The Zoo\,Yoyogi Park Bldg B1F\, Yoyogi 1-30-1\,Yoyogi
SUMMARY:ANIMA\, core of bells
URL:https://www.tokyogigguide.com/index.php?option=com_jem&view=event&id=24
 15:anima-core-of-bells&Itemid=1094
END:VEVENT
END:VCALENDAR
