BEGIN:VCALENDAR
VERSION:2.0
PRODID:-//104.152.168.27//NONSGML kigkonsult.se iCalcreator 2.20//
CALSCALE:GREGORIAN
METHOD:PUBLISH
X-WR-TIMEZONE:Asia/Tokyo
BEGIN:VEVENT
UID:event24079@Tokyo Gig Guide
DTSTAMP:20260420T195100Z
CATEGORIES:Jazz
DESCRIPTION:Shun Sakai (Vo)\,  yushi Miyano (A.sax)\, Keiichi Yoshida (P)\n
 カテゴリ: Jazz\nリンク: https://www.tokyogigguide.com/index.php?option=com_jem&vi
 ew=event&id=24079:sakai-shun-vo-miyano-yushi-a-sax-yoshida-keiichi-p&Itemi
 d=1094\n
DTSTART:20191123T190000
DTEND:20191123T190000
LOCATION:Sweet Rain\,Okada Bldg. B1\, 5-46-5　Nakano\, Nakano-ku\, Tokyo\,Na
 kano
SUMMARY:Shun Sakai (Vo)\,  yushi Miyano (A.sax)\, Keiichi Yoshida (P)
URL:https://www.tokyogigguide.com/index.php?option=com_jem&view=event&id=24
 079:sakai-shun-vo-miyano-yushi-a-sax-yoshida-keiichi-p&Itemid=1094
END:VEVENT
END:VCALENDAR
