BEGIN:VCALENDAR
VERSION:2.0
PRODID:-//104.152.168.27//NONSGML kigkonsult.se iCalcreator 2.20//
CALSCALE:GREGORIAN
METHOD:PUBLISH
X-WR-TIMEZONE:Asia/Tokyo
BEGIN:VEVENT
UID:event2403@Tokyo Gig Guide
DTSTAMP:20260425T115231Z
CATEGORIES:Rock
DESCRIPTION:LENINGRAD BLUES MACHINE\,THE FOOLS\, WATERBED\, RANGE&THE DIRTY
  HOSPITAL\nカテゴリ: Rock\nリンク: https://www.tokyogigguide.com/index.php?option
 =com_jem&view=event&id=2403:leningrad-blues-machinethe-fools-waterbed-rang
 eathe-dirtyhospital&Itemid=1094\n
DTSTART:20100212T183000
DTEND:20100212T183000
LOCATION:Earthdom\,Lisbon Bldg B1F\, 3-32-3 Okubo\, Shinjuku-ku\,Okubo
SUMMARY:LENINGRAD BLUES MACHINE\,THE FOOLS\, WATERBED\, RANGE&THE DIRTY HOS
 PITAL
URL:https://www.tokyogigguide.com/index.php?option=com_jem&view=event&id=24
 03:leningrad-blues-machinethe-fools-waterbed-rangeathe-dirtyhospital&Itemi
 d=1094
END:VEVENT
END:VCALENDAR
