BEGIN:VCALENDAR
VERSION:2.0
PRODID:-//104.152.168.27//NONSGML kigkonsult.se iCalcreator 2.20//
CALSCALE:GREGORIAN
METHOD:PUBLISH
X-WR-TIMEZONE:Asia/Tokyo
BEGIN:VEVENT
UID:event2359@Tokyo Gig Guide
DTSTAMP:20260419T143339Z
CATEGORIES:Electronic Rock
DESCRIPTION:HADOUKEN!\nカテゴリ: Electronic Rock\nリンク: https://www.tokyogigguid
 e.com/index.php?option=com_jem&view=event&id=2359:hadouken&Itemid=1094\n
DTSTART:20100406T180000
DTEND:20100406T180000
LOCATION:O-East\,2F 2-14-9 Dogenzaka\, Shibuya-ku\,Shibuya
SUMMARY:HADOUKEN!
URL:https://www.tokyogigguide.com/index.php?option=com_jem&view=event&id=23
 59:hadouken&Itemid=1094
END:VEVENT
END:VCALENDAR
