BEGIN:VCALENDAR
VERSION:2.0
PRODID:-//104.152.168.27//NONSGML kigkonsult.se iCalcreator 2.20//
CALSCALE:GREGORIAN
METHOD:PUBLISH
X-WR-TIMEZONE:Asia/Tokyo
BEGIN:VEVENT
UID:event23217@Tokyo Gig Guide
DTSTAMP:20260420T181841Z
CATEGORIES:Experimental\, Festival\, Jazz\, Progressive\, World
DESCRIPTION:ProgTokyo 2019 Autumn Day 1: STELLA LEE JONES (ステラ・リー・ジョーンズ)\nカ
 テゴリ: Experimental\, Festival\, Jazz\, Progressive\, World\nリンク: https://ww
 w.tokyogigguide.com/index.php?option=com_jem&view=event&id=23217:progtokyo
 -2019-autumn-day1-stella-lee-jones&Itemid=1094\n
DTSTART:20191011T190000
DTEND:20191011T190000
LOCATION:Silver Elephant\,2-10-6 B1\, Kichijoji Honmachi\,Kichijoji
SUMMARY:ProgTokyo 2019 Autumn Day 1: STELLA LEE JONES (ステラ・リー・ジョーンズ)
URL:https://www.tokyogigguide.com/index.php?option=com_jem&view=event&id=23
 217:progtokyo-2019-autumn-day1-stella-lee-jones&Itemid=1094
END:VEVENT
END:VCALENDAR
