BEGIN:VCALENDAR
VERSION:2.0
PRODID:-//104.152.168.27//NONSGML kigkonsult.se iCalcreator 2.20//
CALSCALE:GREGORIAN
METHOD:PUBLISH
X-WR-TIMEZONE:Asia/Tokyo
BEGIN:VEVENT
UID:event22559@Tokyo Gig Guide
DTSTAMP:20260423T224030Z
CATEGORIES:House
DESCRIPTION:Dimitri From Paris\nカテゴリ: House\nリンク: https://www.tokyogigguide
 .com/index.php?option=com_jem&view=event&id=22559:dimitri-from-paris&Itemi
 d=1094\n
DTSTART:20190705T220000
DTEND:20190705T220000
LOCATION:Contact\,B2F 2-10-12 DOGENZAKA\, SHIBUYA-KU\,Shibuya
SUMMARY:Dimitri From Paris
URL:https://www.tokyogigguide.com/index.php?option=com_jem&view=event&id=22
 559:dimitri-from-paris&Itemid=1094
END:VEVENT
END:VCALENDAR
