BEGIN:VCALENDAR
VERSION:2.0
PRODID:-//104.152.168.27//NONSGML kigkonsult.se iCalcreator 2.20//
CALSCALE:GREGORIAN
METHOD:PUBLISH
X-WR-TIMEZONE:Asia/Tokyo
BEGIN:VEVENT
UID:event22319@Tokyo Gig Guide
DTSTAMP:20260424T115535Z
CATEGORIES:Alternative\, Doom\, Garage Rock\, Mixed Genre\, Rock
DESCRIPTION:FLOATERS\, miniscoop\, REMEDY\, たたり池袋 (TATARI IKEBUKURO)\nカテゴリ:
  Alternative\, Doom\, Garage Rock\, Mixed Genre\, Rock\nリンク: https://www.t
 okyogigguide.com/index.php?option=com_jem&view=event&id=22319:floaters-min
 iscoop-remedy-tatari-ikebukuro&Itemid=1094\n
DTSTART:20190508T183000
DTEND:20190508T183000
LOCATION:Chop (Shutou)\,Sheema100 B1\, 2-46-3 Ikebukuro\,Ikebukuro
SUMMARY:FLOATERS\, miniscoop\, REMEDY\, たたり池袋 (TATARI IKEBUKURO)
URL:https://www.tokyogigguide.com/index.php?option=com_jem&view=event&id=22
 319:floaters-miniscoop-remedy-tatari-ikebukuro&Itemid=1094
END:VEVENT
END:VCALENDAR
