BEGIN:VCALENDAR
VERSION:2.0
PRODID:-//104.152.168.27//NONSGML kigkonsult.se iCalcreator 2.20//
CALSCALE:GREGORIAN
METHOD:PUBLISH
X-WR-TIMEZONE:Asia/Tokyo
BEGIN:VEVENT
UID:event22184@Tokyo Gig Guide
DTSTAMP:20260419T131904Z
CATEGORIES:Electronic\, Hip-Hop
DESCRIPTION:Shing02 x BAKU\, BAKU BAND SET\, mouse on the keys\, LIBRO. Kic
 k a Show\, EYE (Boredoms)\, Moodman\, Gonno\nカテゴリ: Electronic\, Hip-Hop\nリ
 ンク: https://www.tokyogigguide.com/index.php?option=com_jem&view=event&id=2
 2184:shing02-x-baku-baku-band-set-mouse-on-the-keys-libro-kick-a-show-eye-
 boredoms-moodman-gonno&Itemid=1094\n
DTSTART:20190429T210000
DTEND:20190429T210000
LOCATION:Contact\,B2F 2-10-12 DOGENZAKA\, SHIBUYA-KU\,Shibuya
SUMMARY:Shing02 x BAKU\, BAKU BAND SET\, mouse on the keys\, LIBRO. Kick a 
 Show\, EYE (Boredoms)\, Moodman\, Gonno
URL:https://www.tokyogigguide.com/index.php?option=com_jem&view=event&id=22
 184:shing02-x-baku-baku-band-set-mouse-on-the-keys-libro-kick-a-show-eye-b
 oredoms-moodman-gonno&Itemid=1094
END:VEVENT
END:VCALENDAR
