BEGIN:VCALENDAR
VERSION:2.0
PRODID:-//104.152.168.27//NONSGML kigkonsult.se iCalcreator 2.20//
CALSCALE:GREGORIAN
METHOD:PUBLISH
X-WR-TIMEZONE:Asia/Tokyo
BEGIN:VEVENT
UID:event2217@Tokyo Gig Guide
DTSTAMP:20260422T144650Z
CATEGORIES:Psych-Folk
DESCRIPTION:Kim Doo Soo\, Kawaguchi Masami's New Rock Syndicate\, Ai Aso Gr
 oup\, DJ Hasegawa Yohei\nカテゴリ: Psych-Folk\nリンク: https://www.tokyogigguide.
 com/index.php?option=com_jem&view=event&id=2217:kim-doo-soo-kawaguchi-masa
 mis-new-rock-syndicate-ai-aso-group-dj-hasegawa-yohei&Itemid=1094\n
DTSTART:20100106T183000
DTEND:20100106T183000
LOCATION:Showboat\,Oak Hill Koenji B1F\, 3-17-2 Koenji Kita\,Koenji
SUMMARY:Kim Doo Soo\, Kawaguchi Masami's New Rock Syndicate\, Ai Aso Group\
 , DJ Hasegawa Yohei
URL:https://www.tokyogigguide.com/index.php?option=com_jem&view=event&id=22
 17:kim-doo-soo-kawaguchi-masamis-new-rock-syndicate-ai-aso-group-dj-hasega
 wa-yohei&Itemid=1094
END:VEVENT
END:VCALENDAR
