BEGIN:VCALENDAR
VERSION:2.0
PRODID:-//104.152.168.27//NONSGML kigkonsult.se iCalcreator 2.20//
CALSCALE:GREGORIAN
METHOD:PUBLISH
X-WR-TIMEZONE:Asia/Tokyo
BEGIN:VEVENT
UID:event22038@Tokyo Gig Guide
DTSTAMP:20260420T065520Z
CATEGORIES:Art-Pop\, Festival\, Jazz\, Post-Rock\, Progressive
DESCRIPTION:ProgTokyo 2019 Spring: henrytennis\, Yakandsuru (Katan Hiviya U
 nit)\, Yuko Tomiyama Band\nカテゴリ: Art-Pop\, Festival\, Jazz\, Post-Rock\, P
 rogressive\nリンク: https://www.tokyogigguide.com/index.php?option=com_jem&vi
 ew=event&id=22038:progtokyo-2019-spring-henrytennis-yakandsuru-katan-hiviy
 a-unit-yuko-tomiyama-band&Itemid=1094\n
DTSTART:20190429T170000
DTEND:20190429T170000
LOCATION:Silver Elephant\,2-10-6 B1\, Kichijoji Honmachi\,Kichijoji
SUMMARY:ProgTokyo 2019 Spring: henrytennis\, Yakandsuru (Katan Hiviya Unit)
 \, Yuko Tomiyama Band
URL:https://www.tokyogigguide.com/index.php?option=com_jem&view=event&id=22
 038:progtokyo-2019-spring-henrytennis-yakandsuru-katan-hiviya-unit-yuko-to
 miyama-band&Itemid=1094
END:VEVENT
END:VCALENDAR
