BEGIN:VCALENDAR
VERSION:2.0
PRODID:-//104.152.168.27//NONSGML kigkonsult.se iCalcreator 2.20//
CALSCALE:GREGORIAN
METHOD:PUBLISH
X-WR-TIMEZONE:Asia/Tokyo
BEGIN:VEVENT
UID:event21749@Tokyo Gig Guide
DTSTAMP:20260422T222458Z
CATEGORIES:Mixed Genre\, Psychedelic\, Rock
DESCRIPTION:GEZAN\, OOIOO\, the hatch\, DMBQ\, BLACKSMOKERS\nカテゴリ: Mixed Ge
 nre\, Psychedelic\, Rock\nリンク: https://www.tokyogigguide.com/index.php?opt
 ion=com_jem&view=event&id=21749:gezan-ooioo-the-hatch-dmbq-blacksmokers&It
 emid=1094\n
DTSTART:20190308T220000
DTEND:20190308T220000
LOCATION:Contact\,B2F 2-10-12 DOGENZAKA\, SHIBUYA-KU\,Shibuya
SUMMARY:GEZAN\, OOIOO\, the hatch\, DMBQ\, BLACKSMOKERS
URL:https://www.tokyogigguide.com/index.php?option=com_jem&view=event&id=21
 749:gezan-ooioo-the-hatch-dmbq-blacksmokers&Itemid=1094
END:VEVENT
END:VCALENDAR
