BEGIN:VCALENDAR
VERSION:2.0
PRODID:-//104.152.168.27//NONSGML kigkonsult.se iCalcreator 2.20//
CALSCALE:GREGORIAN
METHOD:PUBLISH
X-WR-TIMEZONE:Asia/Tokyo
BEGIN:VEVENT
UID:event2174@Tokyo Gig Guide
DTSTAMP:20260423T222102Z
CATEGORIES:Mixed Genre
DESCRIPTION:ROVO\, SOIL & ”PIMP” SESSIONS\, Shugo Tokumaru\, JABBERLOOP\, m
 ore\nカテゴリ: Mixed Genre\nリンク: https://www.tokyogigguide.com/index.php?optio
 n=com_jem&view=event&id=2174:rovo-soil-a-pimp-sessions-shugo-tokumaru-jabb
 erloop-more&Itemid=1094\n
DTSTART:20100313T150000
DTEND:20100313T150000
LOCATION:O-East\,2F 2-14-9 Dogenzaka\, Shibuya-ku\,Shibuya
SUMMARY:ROVO\, SOIL & ”PIMP” SESSIONS\, Shugo Tokumaru\, JABBERLOOP\, more
URL:https://www.tokyogigguide.com/index.php?option=com_jem&view=event&id=21
 74:rovo-soil-a-pimp-sessions-shugo-tokumaru-jabberloop-more&Itemid=1094
END:VEVENT
END:VCALENDAR
