BEGIN:VCALENDAR
VERSION:2.0
PRODID:-//104.152.168.27//NONSGML kigkonsult.se iCalcreator 2.20//
CALSCALE:GREGORIAN
METHOD:PUBLISH
X-WR-TIMEZONE:Asia/Tokyo
BEGIN:VEVENT
UID:event21605@Tokyo Gig Guide
DTSTAMP:20260420T061532Z
CATEGORIES:Acoustic\, Avant garde\, Instrumental\, Latin
DESCRIPTION:Salle Gaveau (Natsuki Kido\, Yoshiaki Sato\, Masaki Hayashi\, K
 eisuke Torigoe)\nカテゴリ: Acoustic\, Avant garde\, Instrumental\, Latin\nリンク:
  https://www.tokyogigguide.com/index.php?option=com_jem&view=event&id=2160
 5:salle-gaveau-natsuki-kido-yoshiaki-sato-masaki-hayashi-keisuke-torigoe&I
 temid=1094\n
DTSTART:20190225T183000
DTEND:20190225T183000
LOCATION:Dolphy\,2-17-4-2F Miyagawa-cho\, Naka-ku\, Yokohama\,Yokohama
SUMMARY:Salle Gaveau (Natsuki Kido\, Yoshiaki Sato\, Masaki Hayashi\, Keisu
 ke Torigoe)
URL:https://www.tokyogigguide.com/index.php?option=com_jem&view=event&id=21
 605:salle-gaveau-natsuki-kido-yoshiaki-sato-masaki-hayashi-keisuke-torigoe
 &Itemid=1094
END:VEVENT
END:VCALENDAR
