BEGIN:VCALENDAR
VERSION:2.0
PRODID:-//104.152.168.27//NONSGML kigkonsult.se iCalcreator 2.20//
CALSCALE:GREGORIAN
METHOD:PUBLISH
X-WR-TIMEZONE:Asia/Tokyo
BEGIN:VEVENT
UID:event21187@Tokyo Gig Guide
DTSTAMP:20260423T150708Z
CATEGORIES:Avant garde\, Free Jazz\, Improvised\, Instrumental\, Jazz
DESCRIPTION:Naoki Kita\, Kyoko Kuroda\nカテゴリ: Avant garde\, Free Jazz\, Impr
 ovised\, Instrumental\, Jazz\nリンク: https://www.tokyogigguide.com/index.php
 ?option=com_jem&view=event&id=21187:violin-naoki-kita-piano-kyoko-kuroda&I
 temid=1094\n
DTSTART:20181207T180000
DTEND:20181207T180000
LOCATION:Sweet Rain\,Okada Bldg. B1\, 5-46-5　Nakano\, Nakano-ku\, Tokyo\,Na
 kano
SUMMARY:Naoki Kita\, Kyoko Kuroda
URL:https://www.tokyogigguide.com/index.php?option=com_jem&view=event&id=21
 187:violin-naoki-kita-piano-kyoko-kuroda&Itemid=1094
END:VEVENT
END:VCALENDAR
