BEGIN:VCALENDAR
VERSION:2.0
PRODID:-//104.152.168.27//NONSGML kigkonsult.se iCalcreator 2.20//
CALSCALE:GREGORIAN
METHOD:PUBLISH
X-WR-TIMEZONE:Asia/Tokyo
BEGIN:VEVENT
UID:event21017@Tokyo Gig Guide
DTSTAMP:20260423T054747Z
CATEGORIES:DJ\, Funk\, Soul
DESCRIPTION:Sadar Bahar\nカテゴリ: DJ\, Funk\, Soul\nリンク: https://www.tokyogigg
 uide.com/index.php?option=com_jem&view=event&id=21017:sadar-bahar&Itemid=1
 094\n
DTSTART:20181201T220000
DTEND:20181201T220000
LOCATION:Contact\,B2F 2-10-12 DOGENZAKA\, SHIBUYA-KU\,Shibuya
SUMMARY:Sadar Bahar
URL:https://www.tokyogigguide.com/index.php?option=com_jem&view=event&id=21
 017:sadar-bahar&Itemid=1094
END:VEVENT
END:VCALENDAR
