BEGIN:VCALENDAR
VERSION:2.0
PRODID:-//104.152.168.27//NONSGML kigkonsult.se iCalcreator 2.20//
CALSCALE:GREGORIAN
METHOD:PUBLISH
X-WR-TIMEZONE:Asia/Tokyo
BEGIN:VEVENT
UID:event20887@Tokyo Gig Guide
DTSTAMP:20260420T232227Z
CATEGORIES:Downtempo\, Experimental\, Industrial\, Noise
DESCRIPTION:Inigo Kennedy\, Takaaki Itoh\, DJ YAZI\, Tai T.Ram\, Jun Morita
 \, KURUSU\, Yoshinori Hayashi\, Yoshitaka\nカテゴリ: Downtempo\, Experimental\
 , Industrial\, Noise\nリンク: https://www.tokyogigguide.com/index.php?option=
 com_jem&view=event&id=20887:steffi-takaaki-itoh-dj-yazi-tai-t-ram-jun-mori
 ta-kurusu-yoshinori-hayashi-yoshitaka-shirakura&Itemid=1094\n
DTSTART:20181122T220000
DTEND:20181122T220000
LOCATION:Contact\,B2F 2-10-12 DOGENZAKA\, SHIBUYA-KU\,Shibuya
SUMMARY:Inigo Kennedy\, Takaaki Itoh\, DJ YAZI\, Tai T.Ram\, Jun Morita\, K
 URUSU\, Yoshinori Hayashi\, Yoshitaka
URL:https://www.tokyogigguide.com/index.php?option=com_jem&view=event&id=20
 887:steffi-takaaki-itoh-dj-yazi-tai-t-ram-jun-morita-kurusu-yoshinori-haya
 shi-yoshitaka-shirakura&Itemid=1094
END:VEVENT
END:VCALENDAR
