BEGIN:VCALENDAR
VERSION:2.0
PRODID:-//104.152.168.27//NONSGML kigkonsult.se iCalcreator 2.20//
CALSCALE:GREGORIAN
METHOD:PUBLISH
X-WR-TIMEZONE:Asia/Tokyo
BEGIN:VEVENT
UID:event20650@Tokyo Gig Guide
DTSTAMP:20260423T230706Z
CATEGORIES:Acoustic\, Folk
DESCRIPTION:flOr & The VinMush (Florencia Ruiz\, Natsuki Kido\, Atsushi San
 o\, Tomohiro Yahiro)\nカテゴリ: Acoustic\, Folk\nリンク: https://www.tokyogigguid
 e.com/index.php?option=com_jem&view=event&id=20650:flor-the-vinmush-floren
 cia-ruiz-natsuki-kido-atsushi-sano-tomohiro-yahiro&Itemid=1094\n
DTSTART:20181019T193000
DTEND:20181019T193000
LOCATION:plus eleven\,1-2-15\, Nakacho\, Ageo-shi\, Saitama\,Ageo
SUMMARY:flOr & The VinMush (Florencia Ruiz\, Natsuki Kido\, Atsushi Sano\, 
 Tomohiro Yahiro)
URL:https://www.tokyogigguide.com/index.php?option=com_jem&view=event&id=20
 650:flor-the-vinmush-florencia-ruiz-natsuki-kido-atsushi-sano-tomohiro-yah
 iro&Itemid=1094
END:VEVENT
END:VCALENDAR
