BEGIN:VCALENDAR
VERSION:2.0
PRODID:-//104.152.168.27//NONSGML kigkonsult.se iCalcreator 2.20//
CALSCALE:GREGORIAN
METHOD:PUBLISH
X-WR-TIMEZONE:Asia/Tokyo
BEGIN:VEVENT
UID:event2023@Tokyo Gig Guide
DTSTAMP:20260426T023338Z
CATEGORIES:New Wave
DESCRIPTION:POLYSICS\, your gold\, my pink\nカテゴリ: New Wave\nリンク: https://ww
 w.tokyogigguide.com/index.php?option=com_jem&view=event&id=2023:polysics-y
 our-gold-my-pink&Itemid=1094\n
DTSTART:20091222T183000
DTEND:20091222T183000
LOCATION:Zher The Zoo\,Yoyogi Park Bldg B1F\, Yoyogi 1-30-1\,Yoyogi
SUMMARY:POLYSICS\, your gold\, my pink
URL:https://www.tokyogigguide.com/index.php?option=com_jem&view=event&id=20
 23:polysics-your-gold-my-pink&Itemid=1094
END:VEVENT
END:VCALENDAR
